BEGIN:VCALENDAR
VERSION:2.0
CALSCALE:GREGORIAN
PRODID:-//Diputació de Barcelona//DibaCMS//EN
BEGIN:VEVENT
UID:1464
DTSTAMP:20260419T202857
DTSTART:20210613T093000
DTEND:20210613T130000
SUMMARY:Caminada Popular - Introducció a la marxa nòrdica
LOCATION:Carrer Alou, 6 08586 Sant Agusti de Lluçanès
METHOD:PUBLISH
X-WR-CALNAME:st.agusti@santagustidellucanes.cat
X-WR-TIMEZONE:Europe/Madrid
DESCRIPTION:Introducció a la marxa nòrdica, s'explicarà els beneficis de la marxa nòrdica i es deixarà material per practicar durant la caminada.


	Recorregut de 6-8 km per les rodalies del poble.
	Diumenge 13 de juny de 9:30 a 12:30 h
	Sortida a l'Alou davant de l'Ajuntament
	Inscripcions fins el 11 de juny de 2021: Ajuntament de Sant Agustí de Lluçanès, 938 527 001 - 678 000 725 - mail: st.agusti@diba.cat
	Places limitades a 20.


URI:https://www.santagustidellucanes.cat/actualitat/agenda/caminada-popular-introduccio-a-la-marxa-nordica.html
CLASS:PUBLIC
END:VEVENT
END:VCALENDAR
