BEGIN:VCALENDAR
VERSION:2.0
CALSCALE:GREGORIAN
PRODID:-//Diputació de Barcelona//DibaCMS//EN
BEGIN:VEVENT
UID:1489
DTSTAMP:20260419T203049
DTSTART:20210928T070000
DTEND:20210928T140000
SUMMARY:Fira l'Hostal del Vilar 2021
LOCATION:
METHOD:PUBLISH
X-WR-CALNAME:st.agusti@santagustidellucanes.cat
X-WR-TIMEZONE:Europe/Madrid
DESCRIPTION:
URI:https://www.santagustidellucanes.cat/actualitat/agenda/fira-lhostal-del-vilar-2021.html
CLASS:PUBLIC
END:VEVENT
END:VCALENDAR
