BEGIN:VCALENDAR
VERSION:2.0
CALSCALE:GREGORIAN
PRODID:-//Diputació de Barcelona//DibaCMS//EN
BEGIN:VEVENT
UID:1490
DTSTAMP:20260419T184744
DTSTART:20210925T100000
DTEND:20210925T120000
SUMMARY:Visita guiada a l'església de Sant Agustí de Lluçanès
LOCATION:Església de Sant Agustí de Lluçanès 08586 Sant Agustí de Lluçanès
METHOD:PUBLISH
X-WR-CALNAME:st.agusti@santagustidellucanes.cat
X-WR-TIMEZONE:Europe/Madrid
DESCRIPTION:
URI:https://www.santagustidellucanes.cat/actualitat/agenda/visita-guiada-a-lesglesia-de-sant-agusti-de-llucanes.html
CLASS:PUBLIC
END:VEVENT
END:VCALENDAR
