BEGIN:VCALENDAR
VERSION:2.0
CALSCALE:GREGORIAN
PRODID:-//Diputació de Barcelona//DibaCMS//EN
BEGIN:VEVENT
UID:1499
DTSTAMP:20260419T161538
DTSTART:20211104T110000
DTEND:20211104T120000
SUMMARY:Taller de gimnàstica i psicomotricitat
LOCATION:Carrer Alou, 6 08586 Sant Agusti de Lluçanès
METHOD:PUBLISH
X-WR-CALNAME:st.agusti@santagustidellucanes.cat
X-WR-TIMEZONE:Europe/Madrid
DESCRIPTION:Inici activitats adreçades a majors de 60 anys per a mantenir i potenciar un bon to muscular, exercicis d'equilibri, jocs en moviment, estiraments,...

URI:https://www.santagustidellucanes.cat/actualitat/agenda/taller-de-gimnastica-i-psicomotricitat.html
CLASS:PUBLIC
END:VEVENT
END:VCALENDAR
