BEGIN:VCALENDAR
VERSION:2.0
CALSCALE:GREGORIAN
PRODID:-//Diputació de Barcelona//DibaCMS//EN
BEGIN:VEVENT
UID:1526
DTSTAMP:20260419T145508
DTSTART:20220528T180000
DTEND:20220528T200000
SUMMARY:Sorreigs: una mirada al futur
LOCATION:Carrer Alou, 6 08586 Sant Agusti de Lluçanès
METHOD:PUBLISH
X-WR-CALNAME:st.agusti@santagustidellucanes.cat
X-WR-TIMEZONE:Europe/Madrid
DESCRIPTION:Aquest 28 de maig a l'Ajuntament de Sant Agustí de Lluçanès de 18:00 a 20:00 es farà una nova trobada del procés participatiu “Sorreigs, una mirada al futur”

URI:https://www.santagustidellucanes.cat/actualitat/agenda/1526-sorreigs-una-mirada-al-futur.html
CLASS:PUBLIC
END:VEVENT
END:VCALENDAR
