BEGIN:VCALENDAR
VERSION:2.0
CALSCALE:GREGORIAN
PRODID:-//Diputació de Barcelona//DibaCMS//EN
BEGIN:VEVENT
UID:1541
DTSTAMP:20260419T184733
DTSTART:20220825T120000
DTEND:20220825T140000
SUMMARY:Missa a Sant Genís del Pi
LOCATION:Església de Sant Genís del Pi 
METHOD:PUBLISH
X-WR-CALNAME:st.agusti@santagustidellucanes.cat
X-WR-TIMEZONE:Europe/Madrid
DESCRIPTION:En acabar hi haurà vermut

URI:https://www.santagustidellucanes.cat/actualitat/agenda/missa-a-sant-genis-del-pi.html
CLASS:PUBLIC
END:VEVENT
END:VCALENDAR
