BEGIN:VCALENDAR
VERSION:2.0
CALSCALE:GREGORIAN
PRODID:-//Diputació de Barcelona//DibaCMS//EN
BEGIN:VEVENT
UID:1545
DTSTAMP:20260419T145445
DTSTART:20220826T230000
DTEND:20220827T010000
SUMMARY:Ball de festa major amb Àlex Peris
LOCATION:
METHOD:PUBLISH
X-WR-CALNAME:st.agusti@santagustidellucanes.cat
X-WR-TIMEZONE:Europe/Madrid
DESCRIPTION:
URI:https://www.santagustidellucanes.cat/actualitat/agenda/ball-de-festa-major-amb-alex-peris.html
CLASS:PUBLIC
END:VEVENT
END:VCALENDAR
