BEGIN:VCALENDAR
VERSION:2.0
CALSCALE:GREGORIAN
PRODID:-//Diputació de Barcelona//DibaCMS//EN
BEGIN:VEVENT
UID:1547
DTSTAMP:20260419T164140
DTSTART:20220827T180000
DTEND:20220827T190000
SUMMARY:Espectacle "CIA LaBerta del Poblet"
LOCATION:
METHOD:PUBLISH
X-WR-CALNAME:st.agusti@santagustidellucanes.cat
X-WR-TIMEZONE:Europe/Madrid
DESCRIPTION:Contes, titelles, elements i escenografies

URI:https://www.santagustidellucanes.cat/actualitat/agenda/espectacle-cia-laberta-del-poblet.html
CLASS:PUBLIC
END:VEVENT
END:VCALENDAR
