BEGIN:VCALENDAR
VERSION:2.0
CALSCALE:GREGORIAN
PRODID:-//Diputació de Barcelona//DibaCMS//EN
BEGIN:VEVENT
UID:1548
DTSTAMP:20260419T145618
DTSTART:20220828T123000
DTEND:20220828T133000
SUMMARY:Missa a Sant Agustí de Lluçanès
LOCATION:Església de Sant Agustí de Lluçanès 08586 Sant Agustí de Lluçanès
METHOD:PUBLISH
X-WR-CALNAME:st.agusti@santagustidellucanes.cat
X-WR-TIMEZONE:Europe/Madrid
DESCRIPTION:En acabar hi haurà vermut

URI:https://www.santagustidellucanes.cat/actualitat/agenda/1548-missa-a-sant-agusti-de-llucanes.html
CLASS:PUBLIC
END:VEVENT
END:VCALENDAR
