BEGIN:VCALENDAR
VERSION:2.0
CALSCALE:GREGORIAN
PRODID:-//Diputació de Barcelona//DibaCMS//EN
BEGIN:VEVENT
UID:1550
DTSTAMP:20260419T200000
DTSTART:20220928T070000
DTEND:20220928T140000
SUMMARY:Fira de l'Hostal del Vilar 2022
LOCATION:08586 Sant Agustí de Lluçanès
METHOD:PUBLISH
X-WR-CALNAME:st.agusti@santagustidellucanes.cat
X-WR-TIMEZONE:Europe/Madrid
DESCRIPTION:
URI:https://www.santagustidellucanes.cat/actualitat/agenda/fira-de-lhostal-del-vilar-2022.html
CLASS:PUBLIC
END:VEVENT
END:VCALENDAR
