BEGIN:VCALENDAR
VERSION:2.0
CALSCALE:GREGORIAN
PRODID:-//Diputació de Barcelona//DibaCMS//EN
BEGIN:VEVENT
UID:1554
DTSTAMP:20260419T145411
DTSTART:20221122T170000
DTEND:20221122T180000
SUMMARY:Vine a fer la teva espelma
LOCATION:Carrer Alou, 6 08586 Sant Agusti de Lluçanès
METHOD:PUBLISH
X-WR-CALNAME:st.agusti@santagustidellucanes.cat
X-WR-TIMEZONE:Europe/Madrid
DESCRIPTION:Vine a fer la teva espelma
L'activitat està relacionada amb el dia internacional de l´eliminació de la violència vers les dones. 

🗓️ Dimarts 22 de novembre 2022
🕔 A les 5 de la tarda
📍Ajuntament de Sant Agustí de Lluçanès
Per inscripcions trucar a 609972879

URI:https://www.santagustidellucanes.cat/actualitat/agenda/vine-a-fer-la-teva-espelma.html
CLASS:PUBLIC
END:VEVENT
END:VCALENDAR
