BEGIN:VCALENDAR
VERSION:2.0
CALSCALE:GREGORIAN
PRODID:-//Diputació de Barcelona//DibaCMS//EN
BEGIN:VEVENT
UID:1568
DTSTAMP:20260419T203036
DTSTART:20230502T160000
DTEND:20230502T180000
SUMMARY:El Lluçanès cap als 100. Passejades pel Lluçanès_2 de maig
LOCATION:Punt de trobada aparcament de l'Alou 
METHOD:PUBLISH
X-WR-CALNAME:st.agusti@santagustidellucanes.cat
X-WR-TIMEZONE:Europe/Madrid
DESCRIPTION:Sortida des de Sant Agustí de Lluçanès

URI:https://www.santagustidellucanes.cat/actualitat/agenda/el-llucanes-cap-als-100-passejades-pel-llucanes-2-de-maig.html
CLASS:PUBLIC
END:VEVENT
END:VCALENDAR
