BEGIN:VCALENDAR
VERSION:2.0
CALSCALE:GREGORIAN
PRODID:-//Diputació de Barcelona//DibaCMS//EN
BEGIN:VEVENT
UID:1583
DTSTAMP:20260419T164103
DTSTART:20230825T230000
DTEND:20230826T010000
SUMMARY:Ball de festa major amb Joan Vilandeny
LOCATION:
METHOD:PUBLISH
X-WR-CALNAME:st.agusti@santagustidellucanes.cat
X-WR-TIMEZONE:Europe/Madrid
DESCRIPTION:
URI:https://www.santagustidellucanes.cat/actualitat/agenda/ball-de-festa-major-amb-joan-vilandeny.html
CLASS:PUBLIC
END:VEVENT
END:VCALENDAR
