BEGIN:VCALENDAR
VERSION:2.0
CALSCALE:GREGORIAN
PRODID:-//Diputació de Barcelona//DibaCMS//EN
BEGIN:VEVENT
UID:1586
DTSTAMP:20260419T202454
DTSTART:20230826T180000
DTEND:20230826T200000
SUMMARY:Espectacle Infantil "Cia Albert Vinyes"
LOCATION:
METHOD:PUBLISH
X-WR-CALNAME:st.agusti@santagustidellucanes.cat
X-WR-TIMEZONE:Europe/Madrid
DESCRIPTION:
URI:https://www.santagustidellucanes.cat/actualitat/agenda/espectacle-infantil-cia-albert-vinyes.html
CLASS:PUBLIC
END:VEVENT
END:VCALENDAR
