BEGIN:VCALENDAR
VERSION:2.0
CALSCALE:GREGORIAN
PRODID:-//Diputació de Barcelona//DibaCMS//EN
BEGIN:VEVENT
UID:1593
DTSTAMP:20260419T203108
DTSTART:20230928T070000
DTEND:20230928T140000
SUMMARY:Fira de l'Hostal del Vilar 2023
LOCATION:08586 Sant Agustí de Lluçanès
METHOD:PUBLISH
X-WR-CALNAME:st.agusti@santagustidellucanes.cat
X-WR-TIMEZONE:Europe/Madrid
DESCRIPTION:
URI:https://www.santagustidellucanes.cat/actualitat/agenda/1593-fira-de-lhostal-del-vilar-2023.html
CLASS:PUBLIC
END:VEVENT
END:VCALENDAR
