BEGIN:VCALENDAR
VERSION:2.0
CALSCALE:GREGORIAN
PRODID:-//Diputació de Barcelona//DibaCMS//EN
BEGIN:VEVENT
UID:1607
DTSTAMP:20260419T202738
DTSTART:20240305T170000
DTEND:20240305T190000
SUMMARY:8M Dia internacional de la dona
LOCATION:Carrer Alou, 6 08586 Sant Agusti de Lluçanès
METHOD:PUBLISH
X-WR-CALNAME:st.agusti@santagustidellucanes.cat
X-WR-TIMEZONE:Europe/Madrid
DESCRIPTION:El proper 5 de març es farà un seguit d'activitats per commemorar el 8M. 

URI:https://www.santagustidellucanes.cat/actualitat/agenda/8m-dia-internacional-de-la-dona.html
CLASS:PUBLIC
END:VEVENT
END:VCALENDAR
