BEGIN:VCALENDAR
VERSION:2.0
CALSCALE:GREGORIAN
PRODID:-//Diputació de Barcelona//DibaCMS//EN
BEGIN:VEVENT
UID:1614
DTSTAMP:20260419T202520
DTSTART:20240323T170000
DTEND:20240323T190000
SUMMARY:Un país de conte - espectacle familiar
LOCATION:Carrer Alou, 6 08586 Sant Agusti de Lluçanès
METHOD:PUBLISH
X-WR-CALNAME:st.agusti@santagustidellucanes.cat
X-WR-TIMEZONE:Europe/Madrid
DESCRIPTION:Comença el cicle d'espectacles d'Arts en Viu a Sant Agustí de Lluçanès.

Espectacle infantil i familiar de la mà de Carles Cuberes, on ens explicarà tres històries d'arrel popular amanides amb cançons i una dinàmica participativa.   

Dissabte 23 de març a les 17h

Sala gran de l'ajuntament

URI:https://www.santagustidellucanes.cat/actualitat/agenda/1614-un-pais-de-conte-espectacle-familiar.html
CLASS:PUBLIC
END:VEVENT
END:VCALENDAR
