BEGIN:VCALENDAR
VERSION:2.0
CALSCALE:GREGORIAN
PRODID:-//Diputació de Barcelona//DibaCMS//EN
BEGIN:VEVENT
UID:1618
DTSTAMP:20260419T222134
DTSTART:20240526T120000
DTEND:20240526T140000
SUMMARY:Concert amb Trending Covers
LOCATION:Santuari dels Munts 08586 Sant Agustí de Lluçanès
METHOD:PUBLISH
X-WR-CALNAME:st.agusti@santagustidellucanes.cat
X-WR-TIMEZONE:Europe/Madrid
DESCRIPTION:Ja tenim aquí el següent espectacle del cicle Arts en Viu a Sant Agustí de Lluçanès

Concert amb TRENDING COVERS, un quartet de format acústic amb les millors versions musicals

Diumenge 26 de maig a les 12h al Santuari Els Munts 

URI:https://www.santagustidellucanes.cat/actualitat/agenda/1618-concert-amb-trending-covers.html
CLASS:PUBLIC
END:VEVENT
END:VCALENDAR
