BEGIN:VCALENDAR
VERSION:2.0
CALSCALE:GREGORIAN
PRODID:-//Diputació de Barcelona//DibaCMS//EN
BEGIN:VEVENT
UID:1619
DTSTAMP:20260419T185446
DTSTART:20240528T170000
DTEND:20240528T190000
SUMMARY:ACTIVITAT SUSPESA: De tots els colors
LOCATION:Carrer Alou, 6 08586 Sant Agusti de Lluçanès
METHOD:PUBLISH
X-WR-CALNAME:st.agusti@santagustidellucanes.cat
X-WR-TIMEZONE:Europe/Madrid
DESCRIPTION:Activitat en motiu del Dia Internacional contra la LGTBIFÒBIA i de l'Orgull LGTBI: De Tots els Colors

Reflexió i taller creatiu.

Dimarts 28 de maig de 2024 a les 5 de la tarda a la Sala gran de l'Ajuntament de Sant Agustí de Lluçanès

URI:https://www.santagustidellucanes.cat/actualitat/agenda/activitat-suspesa-de-tots-els-colors.html
CLASS:PUBLIC
END:VEVENT
END:VCALENDAR
