BEGIN:VCALENDAR
VERSION:2.0
CALSCALE:GREGORIAN
PRODID:-//Diputació de Barcelona//DibaCMS//EN
BEGIN:VEVENT
UID:1629
DTSTAMP:20260419T164022
DTSTART:20240715T104000
DTEND:20240715T110000
SUMMARY:Servei caixer mòbil 
LOCATION:Carrer Alou, 6 08586 Sant Agusti de Lluçanès
METHOD:PUBLISH
X-WR-CALNAME:st.agusti@santagustidellucanes.cat
X-WR-TIMEZONE:Europe/Madrid
DESCRIPTION:El mes d’abril de 2024 va començar el servei d’assistència en caixer mòbil a Sant Agustí de Lluçanès. El servei es prestarà una vegada al mes i durant 20 minuts. El pròxim servei serà: 15/07/2024 a les 11:40

URI:https://www.santagustidellucanes.cat/actualitat/agenda/servei-caixer-mobil-.html
CLASS:PUBLIC
END:VEVENT
END:VCALENDAR
