BEGIN:VCALENDAR
VERSION:2.0
CALSCALE:GREGORIAN
PRODID:-//Diputació de Barcelona//DibaCMS//EN
BEGIN:VEVENT
UID:1633
DTSTAMP:20260419T201838
DTSTART:20240823T210000
DTEND:20240824T010000
SUMMARY:Ball de Festa Major 
LOCATION:Al nucli de l'Alou 
METHOD:PUBLISH
X-WR-CALNAME:st.agusti@santagustidellucanes.cat
X-WR-TIMEZONE:Europe/Madrid
DESCRIPTION:Ball de Festa Major amb els Fantàstics

URI:https://www.santagustidellucanes.cat/actualitat/agenda/ball-de-festa-major-.html
CLASS:PUBLIC
END:VEVENT
END:VCALENDAR
