BEGIN:VCALENDAR
VERSION:2.0
CALSCALE:GREGORIAN
PRODID:-//Diputació de Barcelona//DibaCMS//EN
BEGIN:VEVENT
UID:1634
DTSTAMP:20260419T182518
DTSTART:20240824T170000
DTEND:20240824T200000
SUMMARY:Inflables i espectacle familiar
LOCATION:Al nucli de l'Alou 
METHOD:PUBLISH
X-WR-CALNAME:st.agusti@santagustidellucanes.cat
X-WR-TIMEZONE:Europe/Madrid
DESCRIPTION:A les 17:00 Inflables 

A les 18:15 Espectacle familiar amb Xafarranxo a la Masia de l'avi Pere i l'àvia Maria

En acabar hi haurà berenar de coca i xocolata

URI:https://www.santagustidellucanes.cat/actualitat/agenda/inflables-i-espectacle-familiar.html
CLASS:PUBLIC
END:VEVENT
END:VCALENDAR
