BEGIN:VCALENDAR
VERSION:2.0
CALSCALE:GREGORIAN
PRODID:-//Diputació de Barcelona//DibaCMS//EN
BEGIN:VEVENT
UID:1638
DTSTAMP:20260419T235830
DTSTART:20250825T000000
DTEND:20250825T235900
SUMMARY:Festa Local 2025 (Sant Genís)
LOCATION:
METHOD:PUBLISH
X-WR-CALNAME:st.agusti@santagustidellucanes.cat
X-WR-TIMEZONE:Europe/Madrid
DESCRIPTION:El Ple de l'Ajuntament de Sant Agustí de Lluçanès, en sessió ordinària de 2 d’agost de 2024, va aprovar la proposta de festes locals per a l’any 2025 i va establir aquest dia com a festa local.

Dilluns, 25 d’agost de 2025: Sant Genís – Festa Major de l’Alou.

URI:https://www.santagustidellucanes.cat/actualitat/agenda/festa-local-2025-sant-genis.html
CLASS:PUBLIC
END:VEVENT
END:VCALENDAR
