BEGIN:VCALENDAR
VERSION:2.0
CALSCALE:GREGORIAN
PRODID:-//Diputació de Barcelona//DibaCMS//EN
BEGIN:VEVENT
UID:1648
DTSTAMP:20260419T220557
DTSTART:20241112T160000
DTEND:20241112T180000
SUMMARY:Taller d'elaboració d'espelmes dins el marc del 25N
LOCATION:Carrer Alou, 6 08586 Sant Agusti de Lluçanès
METHOD:PUBLISH
X-WR-CALNAME:st.agusti@santagustidellucanes.cat
X-WR-TIMEZONE:Europe/Madrid
DESCRIPTION:Taller d'elaboració d'espelmes en motiu  del dia internacional de l'eliminació de la violència vers les dones.

Obert a tota la població

Dia: 12/11/2024

Hora: 16:00 h.

Lloc: Ajuntament de Sant Agustí de Lluçanès

Inscripcions a l'ajuntament: 93 852 70 01 i 678 00 725

URI:https://www.santagustidellucanes.cat/actualitat/agenda/taller-delaboracio-despelmes-dins-el-marc-del-25n.html
CLASS:PUBLIC
END:VEVENT
END:VCALENDAR
