BEGIN:VCALENDAR
VERSION:2.0
CALSCALE:GREGORIAN
PRODID:-//Diputació de Barcelona//DibaCMS//EN
BEGIN:VEVENT
UID:1684
DTSTAMP:20260419T201920
DTSTART:20251218T170000
DTEND:20251218T180000
SUMMARY:Bibliobús Serra de Bellmunt - desembre
LOCATION:Carrer Alou, 6 08586 Sant Agusti de Lluçanès
METHOD:PUBLISH
X-WR-CALNAME:st.agusti@santagustidellucanes.cat
X-WR-TIMEZONE:Europe/Madrid
DESCRIPTION:
URI:https://www.santagustidellucanes.cat/actualitat/agenda/bibliobus-serra-de-bellmunt-desembre.html
CLASS:PUBLIC
END:VEVENT
END:VCALENDAR
