BEGIN:VCALENDAR
VERSION:2.0
CALSCALE:GREGORIAN
PRODID:-//Diputació de Barcelona//DibaCMS//EN
BEGIN:VEVENT
UID:1693
DTSTAMP:20260420T000544
DTSTART:20250825T120000
DTEND:20250825T130000
SUMMARY:Missa a Sant Genís del Pi 
LOCATION:Sant Genís del Pi 
METHOD:PUBLISH
X-WR-CALNAME:st.agusti@santagustidellucanes.cat
X-WR-TIMEZONE:Europe/Madrid
DESCRIPTION:A les 12:00 Missa a Sant Genís del Pi, en acabar hi haurà vermut.

URI:https://www.santagustidellucanes.cat/actualitat/agenda/1693-missa-a-sant-genis-del-pi-.html
CLASS:PUBLIC
END:VEVENT
END:VCALENDAR
