BEGIN:VCALENDAR
VERSION:2.0
CALSCALE:GREGORIAN
PRODID:-//Diputació de Barcelona//DibaCMS//EN
BEGIN:VEVENT
UID:1694
DTSTAMP:20260420T021944
DTSTART:20250823T170000
DTEND:20250823T200000
SUMMARY:Inflables i làser tag
LOCATION:Al nucli de l'Alou 
METHOD:PUBLISH
X-WR-CALNAME:st.agusti@santagustidellucanes.cat
X-WR-TIMEZONE:Europe/Madrid
DESCRIPTION:A les 17:00 Inflables 

I després Laser Tag

En acabar hi haurà berenar de coca i xocolata

URI:https://www.santagustidellucanes.cat/actualitat/agenda/inflables-i-laser-tag.html
CLASS:PUBLIC
END:VEVENT
END:VCALENDAR
