BEGIN:VCALENDAR
VERSION:2.0
CALSCALE:GREGORIAN
PRODID:-//Diputació de Barcelona//DibaCMS//EN
BEGIN:VEVENT
UID:1695
DTSTAMP:20260420T001516
DTSTART:20250822T203000
DTEND:20250823T010000
SUMMARY:Botifarrada de Festa Major
LOCATION:
METHOD:PUBLISH
X-WR-CALNAME:st.agusti@santagustidellucanes.cat
X-WR-TIMEZONE:Europe/Madrid
DESCRIPTION:Reserva prèvia fins el 21/08 enviant un whatsapp al número de telèfon 606 72 18 96

URI:https://www.santagustidellucanes.cat/actualitat/agenda/1695-botifarrada-de-festa-major.html
CLASS:PUBLIC
END:VEVENT
END:VCALENDAR
