BEGIN:VCALENDAR
VERSION:2.0
CALSCALE:GREGORIAN
PRODID:-//Diputació de Barcelona//DibaCMS//EN
BEGIN:VEVENT
UID:1696
DTSTAMP:20260420T001012
DTSTART:20250822T220000
DTEND:20250823T010000
SUMMARY:Espectacle Improshow
LOCATION:Al nucli de l'Alou 
METHOD:PUBLISH
X-WR-CALNAME:st.agusti@santagustidellucanes.cat
X-WR-TIMEZONE:Europe/Madrid
DESCRIPTION:Un espectacle on el públic és el guionista i protagonista: a través de frases i suggeriments a l'atzar els  improvisadors construeixen personatges, històries i entorns que et faran sortir de la rutina. 

Una experiència única i diferent en cada funció on pot passar qualsevol cosa.

URI:https://www.santagustidellucanes.cat/actualitat/agenda/espectacle-improshow.html
CLASS:PUBLIC
END:VEVENT
END:VCALENDAR
