BEGIN:VCALENDAR
VERSION:2.0
CALSCALE:GREGORIAN
PRODID:-//Diputació de Barcelona//DibaCMS//EN
BEGIN:VEVENT
UID:1697
DTSTAMP:20260420T002430
DTSTART:20250821T180000
DTEND:20250821T210000
SUMMARY:Caminada Popular
LOCATION:Carrer Alou, 6 08586 Sant Agusti de Lluçanès
METHOD:PUBLISH
X-WR-CALNAME:st.agusti@santagustidellucanes.cat
X-WR-TIMEZONE:Europe/Madrid
DESCRIPTION:Punt de sortida: L'Alou

Recorregut entre 7 i 8 km

Hi haurà habituallament i cotxe escombra

URI:https://www.santagustidellucanes.cat/actualitat/agenda/1697-caminada-popular.html
CLASS:PUBLIC
END:VEVENT
END:VCALENDAR
