BEGIN:VCALENDAR
VERSION:2.0
CALSCALE:GREGORIAN
PRODID:-//Diputació de Barcelona//DibaCMS//EN
BEGIN:VEVENT
UID:1698
DTSTAMP:20260420T000905
DTSTART:20250928T070000
DTEND:20250928T160000
SUMMARY:Fira de l'Hostal del Vilar 2025
LOCATION:08586 Sant Agustí de Lluçanès
METHOD:PUBLISH
X-WR-CALNAME:st.agusti@santagustidellucanes.cat
X-WR-TIMEZONE:Europe/Madrid
DESCRIPTION:El dissabte 28 de setembre es celebrarà la Fira de l’Hostal del Vilar.

URI:https://www.santagustidellucanes.cat/actualitat/agenda/fira-de-lhostal-del-vilar-2025.html
CLASS:PUBLIC
END:VEVENT
END:VCALENDAR
