BEGIN:VCALENDAR
VERSION:2.0
CALSCALE:GREGORIAN
PRODID:-//Diputació de Barcelona//DibaCMS//EN
BEGIN:VEVENT
UID:1700
DTSTAMP:20260419T170826
DTSTART:20260825T000000
DTEND:20260825T235900
SUMMARY:Festa Local 2026 (Sant Genís) 
LOCATION:
METHOD:PUBLISH
X-WR-CALNAME:st.agusti@santagustidellucanes.cat
X-WR-TIMEZONE:Europe/Madrid
DESCRIPTION:El Ple de l'Ajuntament de Sant Agustí de Lluçanès, en sessió ordinària de 29 de maig de 2025, va aprovar la proposta de festes locals per a l’any 2026 i va establir aquest dia com a festa local.

Dimarts, 25 d’agost de 2026: Sant Genís – Festa Major de l’Alou.

URI:https://www.santagustidellucanes.cat/actualitat/agenda/festa-local-2026-sant-genis-.html
CLASS:PUBLIC
END:VEVENT
END:VCALENDAR
