BEGIN:VCALENDAR
VERSION:2.0
CALSCALE:GREGORIAN
PRODID:-//Diputació de Barcelona//DibaCMS//EN
BEGIN:VEVENT
UID:1709
DTSTAMP:20260419T220614
DTSTART:20251025T170000
DTEND:20251025T190000
SUMMARY:Espectacle familiar de titelles
LOCATION:Carrer Alou, 6 08586 Sant Agusti de Lluçanès
METHOD:PUBLISH
X-WR-CALNAME:st.agusti@santagustidellucanes.cat
X-WR-TIMEZONE:Europe/Madrid
DESCRIPTION:El dissabte 25 d'octubre a la Sala gran de l'ajuntament de Sant Agustí de Lluçanès tindrà lloc un espectacle familiar de titelles a càrrec de l'Alma i la mar de contes.

URI:https://www.santagustidellucanes.cat/actualitat/agenda/1709-espectacle-familiar-de-titelles.html
CLASS:PUBLIC
END:VEVENT
END:VCALENDAR
