BEGIN:VCALENDAR
VERSION:2.0
CALSCALE:GREGORIAN
PRODID:-//Diputació de Barcelona//DibaCMS//EN
BEGIN:VEVENT
UID:1712
DTSTAMP:20260419T200757
DTSTART:20251123T110000
DTEND:20251123T123000
SUMMARY:Espectacle de màgia amb el Mag Nani
LOCATION:Carrer Alou, 6 08586 Sant Agusti de Lluçanès
METHOD:PUBLISH
X-WR-CALNAME:st.agusti@santagustidellucanes.cat
X-WR-TIMEZONE:Europe/Madrid
DESCRIPTION:El diumenge 23 de novembre a les 11h del matí  a la Sala gran de l'ajuntament de Sant Agustí de Lluçanès tindrà lloc un espectacle de màgia a càrrec del Mag Nani.

URI:https://www.santagustidellucanes.cat/actualitat/agenda/espectacle-de-magia-amb-el-mag-nani.html
CLASS:PUBLIC
END:VEVENT
END:VCALENDAR
