BEGIN:VCALENDAR
VERSION:2.0
CALSCALE:GREGORIAN
PRODID:-//Diputació de Barcelona//DibaCMS//EN
BEGIN:VEVENT
UID:1717
DTSTAMP:20260419T215525
DTSTART:20251127T160000
DTEND:20251127T173000
SUMMARY:Xerrada Consum - Que no ens enredin
LOCATION:Carrer Alou, 6 08586 Sant Agusti de Lluçanès
METHOD:PUBLISH
X-WR-CALNAME:st.agusti@santagustidellucanes.cat
X-WR-TIMEZONE:Europe/Madrid
DESCRIPTION:Xerrada informativa gratuïta a càrrec del Servei de Consum de la Diputació de Barcelona: QUE NO ENS ENREDIN

El dijous 27 de novembre a les 6 de la tarda a la Sala gran de l'Ajuntament.

Informaran i previndran sobre les estafes actuals: 

- En vendes fora d’establiments comercials

- Revisions serveis subministrament bàsic

- Entorn tecnològic (whatsapp, facebook, twiter...)

- Enganys i estafes digitals a internet més freqüent: phising, falses causes socials, estafes amb IA

- Mecanismes i fòrmules per prevenir les ciberestafes.

- Vies per reclamar/denunciar (mossos, entitat bancària...)

Per més informació i inscripcions podeu trucar a l'ajuntament 938527001 o enviar un whatsapp al 678 000 725

URI:https://www.santagustidellucanes.cat/actualitat/agenda/xerrada-consum-que-no-ens-enredin.html
CLASS:PUBLIC
END:VEVENT
END:VCALENDAR
