BEGIN:VCALENDAR
VERSION:2.0
CALSCALE:GREGORIAN
PRODID:-//Diputació de Barcelona//DibaCMS//EN
BEGIN:VEVENT
UID:1722
DTSTAMP:20260419T185617
DTSTART:20251221T114500
DTEND:20251221T130000
SUMMARY:Concert de Núria Conangla
LOCATION:Santuari dels Munts 08586 Sant Agustí de Lluçanès
METHOD:PUBLISH
X-WR-CALNAME:st.agusti@santagustidellucanes.cat
X-WR-TIMEZONE:Europe/Madrid
DESCRIPTION:L’Ajuntament de Sant Agustí de Lluçanès us convida a gaudir d’un concert excepcional amb la violinista Nuria Conangla, dins del cicle Arts en Viu 2025.

📍 Santuari de la Mare de Déu dels Munts
📅 Diumenge 21 de desembre de 2025
⏰ 11:45 h

Una oportunitat única per escoltar una interpretació en solitari en un espai emblemàtic i ple de serenor. Una proposta cultural d’alta qualitat que vol acostar la música al territori.

 

URI:https://www.santagustidellucanes.cat/actualitat/agenda/1722-concert-de-nuria-conangla.html
CLASS:PUBLIC
END:VEVENT
END:VCALENDAR
