BEGIN:VCALENDAR
VERSION:2.0
CALSCALE:GREGORIAN
PRODID:-//Diputació de Barcelona//DibaCMS//EN
BEGIN:VEVENT
UID:1728
DTSTAMP:20260419T225557
DTSTART:20260308T090000
DTEND:20260308T130000
SUMMARY:Caminada 8M 2026
LOCATION:Sortida a les 9h del matí. Punts de sortida:
- Perafita -- Davant ajuntament
- Sant Boi de Lluçanès - La Plaça Nova
- Sant Martí de Sobremunt - Davant el Molí 
METHOD:PUBLISH
X-WR-CALNAME:st.agusti@santagustidellucanes.cat
X-WR-TIMEZONE:Europe/Madrid
DESCRIPTION:Caminada organitzada dins el marc de les activitats pel Dia de la Dona.

URI:https://www.santagustidellucanes.cat/actualitat/agenda/caminada-8m-2026.html
CLASS:PUBLIC
END:VEVENT
END:VCALENDAR
